BEGIN:VCALENDAR
VERSION:2.0
PRODID:-//Fowlerville Library - ECPv6.15.15//NONSGML v1.0//EN
CALSCALE:GREGORIAN
METHOD:PUBLISH
X-WR-CALNAME:Fowlerville Library
X-ORIGINAL-URL:https://www.fowlervillelibrary.net
X-WR-CALDESC:Events for Fowlerville Library
REFRESH-INTERVAL;VALUE=DURATION:PT1H
X-Robots-Tag:noindex
X-PUBLISHED-TTL:PT1H
BEGIN:VTIMEZONE
TZID:UTC
BEGIN:STANDARD
TZOFFSETFROM:+0000
TZOFFSETTO:+0000
TZNAME:UTC
DTSTART:20250101T000000
END:STANDARD
END:VTIMEZONE
BEGIN:VEVENT
DTSTART;TZID=UTC:20260427T110000
DTEND;TZID=UTC:20260427T113000
DTSTAMP:20260424T131039
CREATED:20260422T190148Z
LAST-MODIFIED:20260422T191109Z
UID:5083-1777287600-1777289400@www.fowlervillelibrary.net
SUMMARY:Cardio Drumming
DESCRIPTION:Cardio Drumming is a high-energy\, full-body workout that combines rhythmic drumming with aerobic exercise\, typically using drumsticks\, an exercise ball\, and a bucket. It serves as a fun\, low-impact\, or high-intensity cardio session that boosts cardiovascular health and reduces stress. \n*Free for Senior Center Members\, $20 for Non-Members* \nFowlerville Senior Center Membership costs $25 per year for those age 18 to 89 years old. Membership is free for anyone age 90 and above.
URL:https://www.fowlervillelibrary.net/event/cardio-drumming/2026-04-27/
LOCATION:Fowlerville Senior Center\, 203 N Collins Street\, Fowlerville\, MI\, 48836\, United States
CATEGORIES:Fowlerville Senior Center
ATTACH;FMTTYPE=image/jpeg:https://www.fowlervillelibrary.net/wp-content/uploads/2026/04/FOWLERVILLE-SENIOR-CENTER-1-scaled.jpg
END:VEVENT
BEGIN:VEVENT
DTSTART;TZID=UTC:20260428T110000
DTEND;TZID=UTC:20260428T120000
DTSTAMP:20260424T131039
CREATED:20260422T185053Z
LAST-MODIFIED:20260422T191206Z
UID:5076-1777374000-1777377600@www.fowlervillelibrary.net
SUMMARY:Diamond Art Painting
DESCRIPTION:Craft class showing how to enjoy Diamond Art. \n  \n*Free for Senior Center Members\, $20 for Non-Members* \nFowlerville Senior Center Membership costs $25 per year for those age 18 to 89 years old. Membership is free for anyone age 90 and above.
URL:https://www.fowlervillelibrary.net/event/diamond-art-painting/
LOCATION:Fowlerville Senior Center\, 203 N Collins Street\, Fowlerville\, MI\, 48836\, United States
CATEGORIES:Fowlerville Senior Center
ATTACH;FMTTYPE=image/jpeg:https://www.fowlervillelibrary.net/wp-content/uploads/2026/04/Flyer-Only-scaled.jpg
END:VEVENT
END:VCALENDAR