BEGIN:VCALENDAR
VERSION:2.0
PRODID:-//Fowlerville Library - ECPv6.15.15//NONSGML v1.0//EN
CALSCALE:GREGORIAN
METHOD:PUBLISH
X-ORIGINAL-URL:https://www.fowlervillelibrary.net
X-WR-CALDESC:Events for Fowlerville Library
REFRESH-INTERVAL;VALUE=DURATION:PT1H
X-Robots-Tag:noindex
X-PUBLISHED-TTL:PT1H
BEGIN:VTIMEZONE
TZID:UTC
BEGIN:STANDARD
TZOFFSETFROM:+0000
TZOFFSETTO:+0000
TZNAME:UTC
DTSTART:20250101T000000
END:STANDARD
END:VTIMEZONE
BEGIN:VEVENT
DTSTART;TZID=UTC:20260413T093000
DTEND;TZID=UTC:20260413T103000
DTSTAMP:20260423T233100
CREATED:20260326T172408Z
LAST-MODIFIED:20260326T173023Z
UID:4926-1776072600-1776076200@www.fowlervillelibrary.net
SUMMARY:FREE - Blood Pressure Screening
DESCRIPTION:The Fowlerville Senior Center\, along with the Fowlerville Fire Department offers FREE blood pressure screening on the second Monday of every month from 9:30A – 10:30A. This is a community event\, open to anyone who would like to have their blood pressure checked. It doesn’t take long and the conversations are free too! \n 
URL:https://www.fowlervillelibrary.net/event/free-blood-pressure-screening/2026-04-13/
LOCATION:Fowlerville Senior Center\, 203 N Collins Street\, Fowlerville\, MI\, 48836\, United States
CATEGORIES:Fowlerville Senior Center
ATTACH;FMTTYPE=image/jpeg:https://www.fowlervillelibrary.net/wp-content/uploads/2026/03/IMG_E4108-scaled.jpg
END:VEVENT
END:VCALENDAR